BEGIN:VCALENDAR
VERSION:2.0
PRODID:-//Vrienden Van de Oude Jan - ECPv6.11.2.1//NONSGML v1.0//EN
CALSCALE:GREGORIAN
METHOD:PUBLISH
X-WR-CALNAME:Vrienden Van de Oude Jan
X-ORIGINAL-URL:https://www.vriendenvandeoudejan.nl
X-WR-CALDESC:Evenementen voor Vrienden Van de Oude Jan
REFRESH-INTERVAL;VALUE=DURATION:PT1H
X-Robots-Tag:noindex
X-PUBLISHED-TTL:PT1H
BEGIN:VTIMEZONE
TZID:Europe/Amsterdam
BEGIN:DAYLIGHT
TZOFFSETFROM:+0100
TZOFFSETTO:+0200
TZNAME:CEST
DTSTART:20190331T010000
END:DAYLIGHT
BEGIN:STANDARD
TZOFFSETFROM:+0200
TZOFFSETTO:+0100
TZNAME:CET
DTSTART:20191027T010000
END:STANDARD
END:VTIMEZONE
BEGIN:VEVENT
DTSTART;TZID=Europe/Amsterdam:20190611T170000
DTEND;TZID=Europe/Amsterdam:20190611T200000
DTSTAMP:20260426T063751
CREATED:20190601T165522Z
LAST-MODIFIED:20190601T165522Z
UID:1393-1560272400-1560283200@www.vriendenvandeoudejan.nl
SUMMARY:Meepraten over ontwerp buitenruimte "Oude Jan"
DESCRIPTION:Omwonenden en andere belanghebbenden bezochten massaal de inloopbijeenkomst in de Oude Jan op 23 april jl. Zij waren daar in gesprek met de Stichting Vrienden van de Oude Jan en de gemeente Rheden over de vraag op welke wijze de openbare ruimte rond de kerk meer toekomstbestendig kan worden ingericht. De vele tientallen reacties zijn de basis geweest voor een ontwerp voor de inrichting van de buitenruimte. Dit ontwerp ligt op dinsdag 11 juni tussen 17.00 en 20.00 uur ter inzage tijdens een tweede inloopbijeenkomst in de Oude Jan. \nReageren op ontwerp\nHet bestuur van de Stichting Vrienden van de Oude Jan en medewerkers van de gemeente Rheden horen graag van de aanwezigen wat zij vinden van het ontwerp. Sluit het aan bij de verwachtingen\, ziet men mogelijkheden om het ontwerp te verbeteren of zijn er redenen om andere aanpassingen aan het ontwerp aan te brengen? Die informatie wordt gebruikt bij het verder afwerken van het plan. \nAfronden van het ontwerp\nNa deze tweede inloopbijeenkomst ronden gemeente Rheden en Vrienden van de Oude Jan het plan af en zorgen gezamenlijk voor de realisatie van het plan. Uiteraard houden zij daarbij zorgvuldig rekening met de bijzondere kwaliteiten van deze historische plek.
URL:https://www.vriendenvandeoudejan.nl/evenement/meepraten-over-ontwerp-buitenruimte-oude-jan/
LOCATION:de Oude Jan\, Kerkstraat 56\, Velp
CATEGORIES:Inloopbijeenkomst
END:VEVENT
BEGIN:VEVENT
DTSTART;TZID=Europe/Amsterdam:20190423T170000
DTEND;TZID=Europe/Amsterdam:20190423T200000
DTSTAMP:20260426T063751
CREATED:20190412T175116Z
LAST-MODIFIED:20190412T175116Z
UID:1344-1556038800-1556049600@www.vriendenvandeoudejan.nl
SUMMARY:Inrichting buitenruimte "Oude Jan"
DESCRIPTION:UITNODIGING\nINRICHTING BUITENRUIMTE “OUDE JAN” \nHet terrein rond de Oude Jan aan de Kerkstraat 56 in Velp is eigendom van de Protestantse Kerkgemeente Velp en van de gemeente Rheden\, dat laatste voor wat betreft het gedeelte tussen de grote rode beuk in de richting van de flat aan de Kennedylaan. De Stichting Vrienden van de Oude Jan en de gemeente Rheden willen samen met omwonenden en andere belanghebbenden nagaan of en hoe de cultuurhistorisch waardevolle openbare ruimte rond de kerk meer toekomstbestendig kan worden ingericht. Dit terrein kan op een aantal plekken namelijk gebruiksvriendelijker worden gemaakt en sleetse plekken kunnen opnieuw worden ingericht.\nWe kunnen het ook zo formuleren:\n“Kunnen we met elkaar zorgdragen voor een mooi\, groen en toekomstbestendig rustpunt met eenvoudige verpozingsfuncties voor omwonenden\, aansluitend bij het 12e-eeuwse romaanse kerkje de Oude Jan (rijksmonument)\, op de plaats waar de oorsprong ligt van het dorp Velp? Een plek die in elk geval omwonenden blijvend in het hart sluiten.” \nOm een passend antwoord op deze vraag te vinden nodigen de gemeente Rheden en de Vrienden van de Oude Jan u uit voor een \nInloopbijeenkomst op dinsdag 23 april in de Oude Jan tussen 17 tot 20 uur \nDoel van de bijeenkomst\nWij bieden u volop de gelegenheid uw inbreng te leveren over wat u wenselijk of nodig vindt en ook wat u niet wenselijk of niet nodig vindt om te gaan doen met en op het terrein rond de Oude Jan. Dat kunt u tijdens de bijeenkomst mondeling aangeven in gesprek met iemand van de gemeente en/of de Vrienden van de Oude Jan\, u mag het ook zwart op wit zetten en zelfs nog naderhand inbrengen.\nUw inbreng wordt vervolgens beoordeeld en er wordt bekeken wat in een te maken ontwerp al dan niet een plek krijgt.\nU bent elk moment tussen 16 en 20 uur welkom\, wat u het beste uitkomt. \nIs er al iets voorbereid?\nJazeker. Gemeente en Vrienden van de Oude Jan hebben contact gezocht met de afdeling Tuin- en Landschapsinrichting van Hogeschool Van Hall Larenstein. Tijdens een meerdaagse workshop hebben een aantal studenten van Larenstein zich in november 2018 op dit vraagstuk geworpen en elk een eerste idee voor aanpassing van de ruimte rond de Oude Jan uitgewerkt. Ondanks de uiteenlopende resultaten zitten er gezamenlijk noemers in de werkstukken:\n• Betere zichtbaarheid van het 12e eeuwse rijksmonument als centrale plek op het terrein.\n• Betere bereikbaarheid/toegankelijkheid van kerk en omringend gebied: toegangspaden\, ruimte voor kerk / rond rode beuk.\n• Verbetering van gebruiksmogelijkheden van de open ruimte rond de kerk\, van het groengebied: centrale (multifunctionele) ruimte voor kerk / rond de beuk\, zitcomfort\, speelmogelijkheden jeugd\, Dr. Fabiuspomp.\n• Aantrekkelijker inrichting: materiaalgebruik\, meer kleur door beplanting\, fietsenstalling\, achtergrondinformatie geven over deze historische plek (bord/borden).\n• Afscherming van aangrenzende\, afleidende nieuwbouw aan noordzijde.\nDe werkstukken bieden zeker inspiratie voor de nu te zetten vervolgstap. Tijdens de inloopbijeenkomst worden de werkstukken tentoongesteld. \nHoe gaan we verder?\nWij hopen na de inloopbijeenkomst voldoende ingrediënten te hebben voor het opstellen van een ontwerp voor een toekomstbestendige buitenruimte van de Oude Jan. Bij de gemeente zal de van Larenstein afkomstige stagiair Albin Overdiep zich hiermee bezighouden.\nNadat het ontwerp voldoende is uitgewerkt presenteren wij dit aan de omwonenden en andere belanghebbenden in de Oude Jan\, opdat zonodig nog de puntjes op de i kunnen worden gezet voordat de uitvoering aan de orde is. \nGraag ontvangen wij op dinsdag 23 april in de Oude Jan. \nNamens de gemeente Rheden en Namens de Stichting Vrienden van de Oude Jan
URL:https://www.vriendenvandeoudejan.nl/evenement/inrichting-buitenruimte-oude-jan/
LOCATION:de Oude Jan\, Kerkstraat 56\, Velp
CATEGORIES:Inloopbijeenkomst
ATTACH;FMTTYPE=image/jpeg:https://www.vriendenvandeoudejan.nl/wp-content/uploads/2019/04/Luchtopname-OJ-1.jpg
END:VEVENT
END:VCALENDAR